BEGIN:VCALENDAR
VERSION:2.0
PRODID:-//Iberville Parish Tourism - ECPv6.15.18//NONSGML v1.0//EN
CALSCALE:GREGORIAN
METHOD:PUBLISH
X-WR-CALNAME:Iberville Parish Tourism
X-ORIGINAL-URL:https://visitiberville.com
X-WR-CALDESC:Events for Iberville Parish Tourism
REFRESH-INTERVAL;VALUE=DURATION:PT1H
X-Robots-Tag:noindex
X-PUBLISHED-TTL:PT1H
BEGIN:VTIMEZONE
TZID:America/Chicago
BEGIN:DAYLIGHT
TZOFFSETFROM:-0600
TZOFFSETTO:-0500
TZNAME:CDT
DTSTART:20250309T080000
END:DAYLIGHT
BEGIN:STANDARD
TZOFFSETFROM:-0500
TZOFFSETTO:-0600
TZNAME:CST
DTSTART:20251102T070000
END:STANDARD
BEGIN:DAYLIGHT
TZOFFSETFROM:-0600
TZOFFSETTO:-0500
TZNAME:CDT
DTSTART:20260308T080000
END:DAYLIGHT
BEGIN:STANDARD
TZOFFSETFROM:-0500
TZOFFSETTO:-0600
TZNAME:CST
DTSTART:20261101T070000
END:STANDARD
BEGIN:DAYLIGHT
TZOFFSETFROM:-0600
TZOFFSETTO:-0500
TZNAME:CDT
DTSTART:20270314T080000
END:DAYLIGHT
BEGIN:STANDARD
TZOFFSETFROM:-0500
TZOFFSETTO:-0600
TZNAME:CST
DTSTART:20271107T070000
END:STANDARD
END:VTIMEZONE
BEGIN:VEVENT
DTSTART;TZID=America/Chicago:20260606T090000
DTEND;TZID=America/Chicago:20260606T210000
DTSTAMP:20260424T072324
CREATED:20241026T010218Z
LAST-MODIFIED:20260420T201309Z
UID:1500-1780736400-1780779600@visitiberville.com
SUMMARY:Bayou Pigeon Crawfish Festival
DESCRIPTION:If you love crawfish then the Annual Bayou Pigeon Crawfest is the place to be! \nFeaturing live music from three bands\, crawfish races\, live and silent auctions\, raffle drawings\, vendor booths\, and plenty of crawfish inspired foods to choose from – hamburgers\, hot dogs\, homemade chili\, French fries and nachos will also be available. View event flyer for more details and times. \nThe event takes place Saturday\, June 1 from 9am to 10pm at Bayou Pigeon Heritage in Plaquemine. \nAdmission is free!
URL:https://visitiberville.com/event/bayou-pigeon-crawfish-festival/
LOCATION:Bayou Pigeon Heritage Hall\, 39315 HWY 75\, Plaquemine\, LA\, 70764\, United States
ATTACH;FMTTYPE=image/png:https://visitiberville.com/wp-content/uploads/Iberville-BPH-Crawfest-5bbDl2.tmp_.png
END:VEVENT
END:VCALENDAR