BEGIN:VCALENDAR
VERSION:2.0
PRODID:-//Iberville Parish Tourism - ECPv6.15.18//NONSGML v1.0//EN
CALSCALE:GREGORIAN
METHOD:PUBLISH
X-ORIGINAL-URL:https://visitiberville.com
X-WR-CALDESC:Events for Iberville Parish Tourism
REFRESH-INTERVAL;VALUE=DURATION:PT1H
X-Robots-Tag:noindex
X-PUBLISHED-TTL:PT1H
BEGIN:VTIMEZONE
TZID:America/Chicago
BEGIN:DAYLIGHT
TZOFFSETFROM:-0600
TZOFFSETTO:-0500
TZNAME:CDT
DTSTART:20240310T080000
END:DAYLIGHT
BEGIN:STANDARD
TZOFFSETFROM:-0500
TZOFFSETTO:-0600
TZNAME:CST
DTSTART:20241103T070000
END:STANDARD
BEGIN:DAYLIGHT
TZOFFSETFROM:-0600
TZOFFSETTO:-0500
TZNAME:CDT
DTSTART:20250309T080000
END:DAYLIGHT
BEGIN:STANDARD
TZOFFSETFROM:-0500
TZOFFSETTO:-0600
TZNAME:CST
DTSTART:20251102T070000
END:STANDARD
BEGIN:DAYLIGHT
TZOFFSETFROM:-0600
TZOFFSETTO:-0500
TZNAME:CDT
DTSTART:20260308T080000
END:DAYLIGHT
BEGIN:STANDARD
TZOFFSETFROM:-0500
TZOFFSETTO:-0600
TZNAME:CST
DTSTART:20261101T070000
END:STANDARD
BEGIN:DAYLIGHT
TZOFFSETFROM:-0600
TZOFFSETTO:-0500
TZNAME:CDT
DTSTART:20270314T080000
END:DAYLIGHT
BEGIN:STANDARD
TZOFFSETFROM:-0500
TZOFFSETTO:-0600
TZNAME:CST
DTSTART:20271107T070000
END:STANDARD
END:VTIMEZONE
BEGIN:VEVENT
DTSTART;TZID=America/Chicago:20260404T090000
DTEND;TZID=America/Chicago:20260404T140000
DTSTAMP:20260419T094556
CREATED:20250822T183407Z
LAST-MODIFIED:20250822T183407Z
UID:10000329-1775293200-1775311200@visitiberville.com
SUMMARY:Tractor Supply Co Farmers Market
DESCRIPTION:Come check out the Tractor Supply Co’s Farmers Markets – the first Saturday and third Sundays of each month.  The market will include vendors with handmade and homegrown items\, food trucks and hot food. \n 
URL:https://visitiberville.com/event/tractor-supply-co-farmers-market/2026-04-04/
LOCATION:Tractor Supply Co\, 58485 Belleview Dr\, Plaquemine\, LA\, 70764
CATEGORIES:Tourism
ATTACH;FMTTYPE=image/png:https://visitiberville.com/wp-content/uploads/TSC-TractorSupplyCo-Market.png
END:VEVENT
BEGIN:VEVENT
DTSTART;TZID=America/Chicago:20260315T110000
DTEND;TZID=America/Chicago:20260315T160000
DTSTAMP:20260419T094556
CREATED:20250822T183512Z
LAST-MODIFIED:20250822T183512Z
UID:10000448-1773572400-1773590400@visitiberville.com
SUMMARY:Tractor Supply Co Farmers Market
DESCRIPTION:Come check out the Tractor Supply Co’s Farmers Markets – the first Saturday and third Sundays of each month.  The market will include vendors with handmade and homegrown items\, food trucks and hot food. \n 
URL:https://visitiberville.com/event/tractor-supply-co-farmers-market-2/2026-03-15/
LOCATION:Tractor Supply Co\, 58485 Belleview Dr\, Plaquemine\, LA\, 70764
CATEGORIES:Tourism
ATTACH;FMTTYPE=image/png:https://visitiberville.com/wp-content/uploads/TSC-TractorSupplyCo-Market.png
END:VEVENT
BEGIN:VEVENT
DTSTART;TZID=America/Chicago:20260307T090000
DTEND;TZID=America/Chicago:20260307T140000
DTSTAMP:20260419T094556
CREATED:20250822T183407Z
LAST-MODIFIED:20250822T183407Z
UID:10000328-1772874000-1772892000@visitiberville.com
SUMMARY:Tractor Supply Co Farmers Market
DESCRIPTION:Come check out the Tractor Supply Co’s Farmers Markets – the first Saturday and third Sundays of each month.  The market will include vendors with handmade and homegrown items\, food trucks and hot food. \n 
URL:https://visitiberville.com/event/tractor-supply-co-farmers-market/2026-03-07/
LOCATION:Tractor Supply Co\, 58485 Belleview Dr\, Plaquemine\, LA\, 70764
CATEGORIES:Tourism
ATTACH;FMTTYPE=image/png:https://visitiberville.com/wp-content/uploads/TSC-TractorSupplyCo-Market.png
END:VEVENT
BEGIN:VEVENT
DTSTART;TZID=America/Chicago:20260215T110000
DTEND;TZID=America/Chicago:20260215T160000
DTSTAMP:20260419T094556
CREATED:20250822T183512Z
LAST-MODIFIED:20250822T183512Z
UID:10000447-1771153200-1771171200@visitiberville.com
SUMMARY:Tractor Supply Co Farmers Market
DESCRIPTION:Come check out the Tractor Supply Co’s Farmers Markets – the first Saturday and third Sundays of each month.  The market will include vendors with handmade and homegrown items\, food trucks and hot food. \n 
URL:https://visitiberville.com/event/tractor-supply-co-farmers-market-2/2026-02-15/
LOCATION:Tractor Supply Co\, 58485 Belleview Dr\, Plaquemine\, LA\, 70764
CATEGORIES:Tourism
ATTACH;FMTTYPE=image/png:https://visitiberville.com/wp-content/uploads/TSC-TractorSupplyCo-Market.png
END:VEVENT
BEGIN:VEVENT
DTSTART;TZID=America/Chicago:20260207T090000
DTEND;TZID=America/Chicago:20260207T140000
DTSTAMP:20260419T094556
CREATED:20250822T183407Z
LAST-MODIFIED:20250822T183407Z
UID:10000327-1770454800-1770472800@visitiberville.com
SUMMARY:Tractor Supply Co Farmers Market
DESCRIPTION:Come check out the Tractor Supply Co’s Farmers Markets – the first Saturday and third Sundays of each month.  The market will include vendors with handmade and homegrown items\, food trucks and hot food. \n 
URL:https://visitiberville.com/event/tractor-supply-co-farmers-market/2026-02-07/
LOCATION:Tractor Supply Co\, 58485 Belleview Dr\, Plaquemine\, LA\, 70764
CATEGORIES:Tourism
ATTACH;FMTTYPE=image/png:https://visitiberville.com/wp-content/uploads/TSC-TractorSupplyCo-Market.png
END:VEVENT
BEGIN:VEVENT
DTSTART;TZID=America/Chicago:20260118T110000
DTEND;TZID=America/Chicago:20260118T160000
DTSTAMP:20260419T094556
CREATED:20250822T183512Z
LAST-MODIFIED:20250822T183512Z
UID:10000446-1768734000-1768752000@visitiberville.com
SUMMARY:Tractor Supply Co Farmers Market
DESCRIPTION:Come check out the Tractor Supply Co’s Farmers Markets – the first Saturday and third Sundays of each month.  The market will include vendors with handmade and homegrown items\, food trucks and hot food. \n 
URL:https://visitiberville.com/event/tractor-supply-co-farmers-market-2/2026-01-18/
LOCATION:Tractor Supply Co\, 58485 Belleview Dr\, Plaquemine\, LA\, 70764
CATEGORIES:Tourism
ATTACH;FMTTYPE=image/png:https://visitiberville.com/wp-content/uploads/TSC-TractorSupplyCo-Market.png
END:VEVENT
BEGIN:VEVENT
DTSTART;TZID=America/Chicago:20260103T090000
DTEND;TZID=America/Chicago:20260103T140000
DTSTAMP:20260419T094556
CREATED:20250822T183407Z
LAST-MODIFIED:20250822T183407Z
UID:10000326-1767430800-1767448800@visitiberville.com
SUMMARY:Tractor Supply Co Farmers Market
DESCRIPTION:Come check out the Tractor Supply Co’s Farmers Markets – the first Saturday and third Sundays of each month.  The market will include vendors with handmade and homegrown items\, food trucks and hot food. \n 
URL:https://visitiberville.com/event/tractor-supply-co-farmers-market/2026-01-03/
LOCATION:Tractor Supply Co\, 58485 Belleview Dr\, Plaquemine\, LA\, 70764
CATEGORIES:Tourism
ATTACH;FMTTYPE=image/png:https://visitiberville.com/wp-content/uploads/TSC-TractorSupplyCo-Market.png
END:VEVENT
BEGIN:VEVENT
DTSTART;TZID=America/Chicago:20251221T110000
DTEND;TZID=America/Chicago:20251221T160000
DTSTAMP:20260419T094556
CREATED:20250822T183512Z
LAST-MODIFIED:20250822T183512Z
UID:10000445-1766314800-1766332800@visitiberville.com
SUMMARY:Tractor Supply Co Farmers Market
DESCRIPTION:Come check out the Tractor Supply Co’s Farmers Markets – the first Saturday and third Sundays of each month.  The market will include vendors with handmade and homegrown items\, food trucks and hot food. \n 
URL:https://visitiberville.com/event/tractor-supply-co-farmers-market-2/2025-12-21/
LOCATION:Tractor Supply Co\, 58485 Belleview Dr\, Plaquemine\, LA\, 70764
CATEGORIES:Tourism
ATTACH;FMTTYPE=image/png:https://visitiberville.com/wp-content/uploads/TSC-TractorSupplyCo-Market.png
END:VEVENT
BEGIN:VEVENT
DTSTART;TZID=America/Chicago:20251206T090000
DTEND;TZID=America/Chicago:20251206T140000
DTSTAMP:20260419T094556
CREATED:20250822T183407Z
LAST-MODIFIED:20250822T183407Z
UID:10000325-1765011600-1765029600@visitiberville.com
SUMMARY:Tractor Supply Co Farmers Market
DESCRIPTION:Come check out the Tractor Supply Co’s Farmers Markets – the first Saturday and third Sundays of each month.  The market will include vendors with handmade and homegrown items\, food trucks and hot food. \n 
URL:https://visitiberville.com/event/tractor-supply-co-farmers-market/2025-12-06/
LOCATION:Tractor Supply Co\, 58485 Belleview Dr\, Plaquemine\, LA\, 70764
CATEGORIES:Tourism
ATTACH;FMTTYPE=image/png:https://visitiberville.com/wp-content/uploads/TSC-TractorSupplyCo-Market.png
END:VEVENT
BEGIN:VEVENT
DTSTART;TZID=America/Chicago:20251116T110000
DTEND;TZID=America/Chicago:20251116T160000
DTSTAMP:20260419T094556
CREATED:20250822T183512Z
LAST-MODIFIED:20250822T183512Z
UID:10000444-1763290800-1763308800@visitiberville.com
SUMMARY:Tractor Supply Co Farmers Market
DESCRIPTION:Come check out the Tractor Supply Co’s Farmers Markets – the first Saturday and third Sundays of each month.  The market will include vendors with handmade and homegrown items\, food trucks and hot food. \n 
URL:https://visitiberville.com/event/tractor-supply-co-farmers-market-2/2025-11-16/
LOCATION:Tractor Supply Co\, 58485 Belleview Dr\, Plaquemine\, LA\, 70764
CATEGORIES:Tourism
ATTACH;FMTTYPE=image/png:https://visitiberville.com/wp-content/uploads/TSC-TractorSupplyCo-Market.png
END:VEVENT
BEGIN:VEVENT
DTSTART;TZID=America/Chicago:20251101T090000
DTEND;TZID=America/Chicago:20251101T140000
DTSTAMP:20260419T094556
CREATED:20250822T183407Z
LAST-MODIFIED:20250822T183407Z
UID:10000324-1761987600-1762005600@visitiberville.com
SUMMARY:Tractor Supply Co Farmers Market
DESCRIPTION:Come check out the Tractor Supply Co’s Farmers Markets – the first Saturday and third Sundays of each month.  The market will include vendors with handmade and homegrown items\, food trucks and hot food. \n 
URL:https://visitiberville.com/event/tractor-supply-co-farmers-market/2025-11-01/
LOCATION:Tractor Supply Co\, 58485 Belleview Dr\, Plaquemine\, LA\, 70764
CATEGORIES:Tourism
ATTACH;FMTTYPE=image/png:https://visitiberville.com/wp-content/uploads/TSC-TractorSupplyCo-Market.png
END:VEVENT
BEGIN:VEVENT
DTSTART;TZID=America/Chicago:20251019T110000
DTEND;TZID=America/Chicago:20251019T160000
DTSTAMP:20260419T094556
CREATED:20250822T183512Z
LAST-MODIFIED:20250822T183512Z
UID:10000443-1760871600-1760889600@visitiberville.com
SUMMARY:Tractor Supply Co Farmers Market
DESCRIPTION:Come check out the Tractor Supply Co’s Farmers Markets – the first Saturday and third Sundays of each month.  The market will include vendors with handmade and homegrown items\, food trucks and hot food. \n 
URL:https://visitiberville.com/event/tractor-supply-co-farmers-market-2/2025-10-19/
LOCATION:Tractor Supply Co\, 58485 Belleview Dr\, Plaquemine\, LA\, 70764
CATEGORIES:Tourism
ATTACH;FMTTYPE=image/png:https://visitiberville.com/wp-content/uploads/TSC-TractorSupplyCo-Market.png
END:VEVENT
BEGIN:VEVENT
DTSTART;TZID=America/Chicago:20251004T090000
DTEND;TZID=America/Chicago:20251004T140000
DTSTAMP:20260419T094556
CREATED:20250822T183407Z
LAST-MODIFIED:20250822T183407Z
UID:10000323-1759568400-1759586400@visitiberville.com
SUMMARY:Tractor Supply Co Farmers Market
DESCRIPTION:Come check out the Tractor Supply Co’s Farmers Markets – the first Saturday and third Sundays of each month.  The market will include vendors with handmade and homegrown items\, food trucks and hot food. \n 
URL:https://visitiberville.com/event/tractor-supply-co-farmers-market/2025-10-04/
LOCATION:Tractor Supply Co\, 58485 Belleview Dr\, Plaquemine\, LA\, 70764
CATEGORIES:Tourism
ATTACH;FMTTYPE=image/png:https://visitiberville.com/wp-content/uploads/TSC-TractorSupplyCo-Market.png
END:VEVENT
BEGIN:VEVENT
DTSTART;TZID=America/Chicago:20250921T110000
DTEND;TZID=America/Chicago:20250921T160000
DTSTAMP:20260419T094556
CREATED:20250822T183512Z
LAST-MODIFIED:20250822T183512Z
UID:10000442-1758452400-1758470400@visitiberville.com
SUMMARY:Tractor Supply Co Farmers Market
DESCRIPTION:Come check out the Tractor Supply Co’s Farmers Markets – the first Saturday and third Sundays of each month.  The market will include vendors with handmade and homegrown items\, food trucks and hot food. \n 
URL:https://visitiberville.com/event/tractor-supply-co-farmers-market-2/2025-09-21/
LOCATION:Tractor Supply Co\, 58485 Belleview Dr\, Plaquemine\, LA\, 70764
CATEGORIES:Tourism
ATTACH;FMTTYPE=image/png:https://visitiberville.com/wp-content/uploads/TSC-TractorSupplyCo-Market.png
END:VEVENT
BEGIN:VEVENT
DTSTART;TZID=America/Chicago:20250906T090000
DTEND;TZID=America/Chicago:20250906T140000
DTSTAMP:20260419T094556
CREATED:20250822T183407Z
LAST-MODIFIED:20250822T183407Z
UID:10000322-1757149200-1757167200@visitiberville.com
SUMMARY:Tractor Supply Co Farmers Market
DESCRIPTION:Come check out the Tractor Supply Co’s Farmers Markets – the first Saturday and third Sundays of each month.  The market will include vendors with handmade and homegrown items\, food trucks and hot food. \n 
URL:https://visitiberville.com/event/tractor-supply-co-farmers-market/2025-09-06/
LOCATION:Tractor Supply Co\, 58485 Belleview Dr\, Plaquemine\, LA\, 70764
CATEGORIES:Tourism
ATTACH;FMTTYPE=image/png:https://visitiberville.com/wp-content/uploads/TSC-TractorSupplyCo-Market.png
END:VEVENT
END:VCALENDAR